BEGIN:VCALENDAR
VERSION:2.0
PRODID:gruene-alsterland.de
METHOD:PUBLISH
BEGIN:VTIMEZONE
TZID:Europe/Berlin
X-LIC-LOCATION:Europe/Berlin
BEGIN:DAYLIGHT
TZOFFSETFROM:+0100
TZOFFSETTO:+0200
TZNAME:CEST
DTSTART:19700329T020000
RRULE:FREQ=YEARLY;INTERVAL=1;BYDAY=-1SU;BYMONTH=3
END:DAYLIGHT
BEGIN:STANDARD
TZOFFSETFROM:+0200
TZOFFSETTO:+0100
TZNAME:CET
DTSTART:19701025T030000
RRULE:FREQ=YEARLY;INTERVAL=1;BYDAY=-1SU;BYMONTH=10
END:STANDARD
END:VTIMEZONE
BEGIN:VEVENT
UID:a3dc2931e5d090159e06b013c99adbec@gruene-alsterland.de
URL;VALUE=URI:https://gruene-alsterland.de/termine/gruenschnack-nahe/
LOCATION:Dörphus Nahe, Mühlenstr. 13, 23866 Nahe
SUMMARY:Grünschnack Nahe
DESCRIPTION;ALTREP="data:text/html,":
CLASS:PUBLIC
DTSTART;TZID=Europe/Berlin:20261105T193000
DTEND;TZID=Europe/Berlin:20261105T210000
DTSTAMP:20260421T153821
END:VEVENT
END:VCALENDAR