BEGIN:VCALENDAR
VERSION:2.0
PRODID:gruene-alsterland.de
METHOD:PUBLISH
BEGIN:VTIMEZONE
TZID:Europe/Berlin
X-LIC-LOCATION:Europe/Berlin
BEGIN:DAYLIGHT
TZOFFSETFROM:+0100
TZOFFSETTO:+0200
TZNAME:CEST
DTSTART:19700329T020000
RRULE:FREQ=YEARLY;INTERVAL=1;BYDAY=-1SU;BYMONTH=3
END:DAYLIGHT
BEGIN:STANDARD
TZOFFSETFROM:+0200
TZOFFSETTO:+0100
TZNAME:CET
DTSTART:19701025T030000
RRULE:FREQ=YEARLY;INTERVAL=1;BYDAY=-1SU;BYMONTH=10
END:STANDARD
END:VTIMEZONE
BEGIN:VEVENT
UID:cf3b145e865b2f524f37655f1f922e7b@gruene-alsterland.de
URL;VALUE=URI:https://gruene-alsterland.de/termine/ortsvorstaendetreffen-
 2/
LOCATION:Bürgerhaus Itzstedt, Segeberger Str. 45, 23845 Itzstedt
SUMMARY:Ortsvorständetreffen
DESCRIPTION;ALTREP="data:text/html,%3Cp%3EB%C3%BCrgerhaus%20Itzstedt%2C%2
 0Segeberger%20Str.%2045%2C%2023845%20Itzstedt%3C%2Fp%3E":Bürgerhaus Itzs
 tedt\, Segeberger Str. 45\, 23845 Itzstedt
CLASS:PUBLIC
DTSTART;TZID=Europe/Berlin:20260424T183000
DTEND;TZID=Europe/Berlin:20260424T203000
DTSTAMP:20260421T115134
END:VEVENT
BEGIN:VEVENT
UID:67f4530f6dac1a3dd4540cb239ee1c78@gruene-alsterland.de
URL;VALUE=URI:https://gruene-alsterland.de/termine/gruenschnack-amt-leeze
 n-2/
LOCATION:
SUMMARY:Grünschnack Amt Leezen
DESCRIPTION;ALTREP="data:text/html,%3Cp%3EOrt%3A%20Bud%C3%B6rp%3Cbr%20%2F
 %3E%0A23816%20Leezen%3Cbr%20%2F%3E%0AUnsere%20regelm%C3%A4%C3%9Fige%20Ges
 pr%C3%A4chsrunde%20findet%20wieder%20statt.%20%3C%2Fp%3E":Ort: Budörp\n\
 n23816 Leezen\n\nUnsere regelmäßige Gesprächsrunde findet wieder statt
 .
CLASS:PUBLIC
DTSTART;TZID=Europe/Berlin:20260729T190000
DTEND;TZID=Europe/Berlin:20260729T210000
DTSTAMP:20260421T115134
END:VEVENT
BEGIN:VEVENT
UID:c27907512dabdf97a5b54e0c4ec5cce4@gruene-alsterland.de
URL;VALUE=URI:https://gruene-alsterland.de/termine/gruenschnack-in-wakend
 orf-ii/
LOCATION:Ort folgt, 24558 Wakendorf II
SUMMARY:Grünschnack in Wakendorf II
DESCRIPTION;ALTREP="data:text/html,":
CLASS:PUBLIC
DTSTART;TZID=Europe/Berlin:20260903T193000
DTEND;TZID=Europe/Berlin:20260903T210000
DTSTAMP:20260421T115134
END:VEVENT
BEGIN:VEVENT
UID:8ea81900a6eabaa4f61194fa88cd4b31@gruene-alsterland.de
URL;VALUE=URI:https://gruene-alsterland.de/termine/gruenschnack-im-amt-le
 ezen-6/
LOCATION:
SUMMARY:Grünschnack im Amt Leezen
DESCRIPTION;ALTREP="data:text/html,%0A%0A%20%20.gruene-event%20%7B%0A%20%
 20%20%20border%3A%202px%20solid%20%233a9d23%3B%20%2F%2A%20Gr%C3%BCner%20R
 ahmen%20%2A%2F%0A%20%20%20%20border-radius%3A%2010px%3B%0A%20%20%20%20pad
 ding%3A%2015px%3B%0A%20%20%20%20margin%3A%2020px%200%3B%0A%20%20%20%20bac
 kground-color%3A%20%23f6fff6%3B%20%2F%2A%20ganz%20leichtes%20Gr%C3%BCn%20
 im%20Hintergrund%20%2A%2F%0A%20%20%20%20box-shadow%3A%200%202px%205px%20r
 gba%280%2C0%2C0%2C0.1%29%3B%0A%20%20%7D%0A%20%20.gruene-event%20h3%20%7B%
 0A%20%20%20%20color%3A%20%233a9d23%3B%20%2F%2A%20Gr%C3%BCner%20Titel%20%2
 A%2F%0A%20%20%20%20margin-top%3A%200%3B%0A%20%20%7D%0A%20%20.gruene-event
 %20p%20%7B%0A%20%20%20%20margin%3A%205px%200%200%3B%0A%20%20%7D%0A%0A%0A%
 3Cdiv%20class%3D%22gruene-event%22%3E%0A%20%20%3Ch3%3E%F0%9F%8C%B1%20Mitt
 woch%2C%2030.%20September%202026%2C%2019%3A00%20Uhr%20%E2%80%93%20Gr%C3%B
 Cnschnack%20im%20Amt%20Leezen%3C%2Fh3%3E%0A%20%20%3Cp%3EEinladung%20zum%2
 0Gr%C3%BCnen%20Gr%C3%BCnschnack.%20Ort%20und%20Thema%20werden%20noch%20be
 kanntgegeben.%3C%2Fp%3E%0A%3C%2Fdiv%3E%0A%0A%0A%0A":.gruene-event {\n\n  
   border: 2px solid #3a9d23\; /* Grüner Rahmen */\n\n    border-radius: 
 10px\;\n\n    padding: 15px\;\n\n    margin: 20px 0\;\n\n    background-c
 olor: #f6fff6\; /* ganz leichtes Grün im Hintergrund */\n\n    box-shado
 w: 0 2px 5px rgba(0\,0\,0\,0.1)\;\n\n  }\n\n  .gruene-event h3 {\n\n    c
 olor: #3a9d23\; /* Grüner Titel */\n\n    margin-top: 0\;\n\n  }\n\n  .g
 ruene-event p {\n\n    margin: 5px 0 0\;\n\n  }\n\n  🌱 Mittwoch\, 30. 
 September 2026\, 19:00 Uhr – Grünschnack im Amt Leezen\n\n  Einladung 
 zum Grünen Grünschnack. Ort und Thema werden noch bekanntgegeben.
CLASS:PUBLIC
DTSTART;TZID=Europe/Berlin:20260930T190000
DTEND;TZID=Europe/Berlin:20260930T200000
DTSTAMP:20260421T115134
END:VEVENT
BEGIN:VEVENT
UID:2a0def3f265de7c21664a3643ca5ecce@gruene-alsterland.de
URL;VALUE=URI:https://gruene-alsterland.de/termine/gruenschnack-amt-leeze
 n/
LOCATION:
SUMMARY:Grünschnack Amt Leezen
DESCRIPTION;ALTREP="data:text/html,%3Cp%3EOrt%3A%20Bud%C3%B6rp%3Cbr%20%2F
 %3E%0A23816%20Leezen%3Cbr%20%2F%3E%0AUnsere%20regelm%C3%A4%C3%9Fige%20Ges
 pr%C3%A4chsrunde%20findet%20wieder%20statt.%20%3C%2Fp%3E":Ort: Budörp\n\
 n23816 Leezen\n\nUnsere regelmäßige Gesprächsrunde findet wieder statt
 .
CLASS:PUBLIC
DTSTART;TZID=Europe/Berlin:20260930T190000
DTEND;TZID=Europe/Berlin:20260930T210000
DTSTAMP:20260421T115134
END:VEVENT
BEGIN:VEVENT
UID:720ee2b22a5ed7339ee8431f61326f75@gruene-alsterland.de
URL;VALUE=URI:https://gruene-alsterland.de/termine/gruenschnack-nahe/
LOCATION:Dörphus Nahe, Mühlenstr. 13, 23866 Nahe
SUMMARY:Grünschnack Nahe
DESCRIPTION;ALTREP="data:text/html,":
CLASS:PUBLIC
DTSTART;TZID=Europe/Berlin:20261105T193000
DTEND;TZID=Europe/Berlin:20261105T210000
DTSTAMP:20260421T115134
END:VEVENT
BEGIN:VEVENT
UID:52dc39939b34fc0165f5cfdef1caf36f@gruene-alsterland.de
URL;VALUE=URI:https://gruene-alsterland.de/termine/gruenschnack-im-amt-le
 ezen-7/
LOCATION:
SUMMARY:Grünschnack im Amt Leezen
DESCRIPTION;ALTREP="data:text/html,%0A%0A%20%20.gruene-event%20%7B%0A%20%
 20%20%20border%3A%202px%20solid%20%233a9d23%3B%20%2F%2A%20Gr%C3%BCner%20R
 ahmen%20%2A%2F%0A%20%20%20%20border-radius%3A%2010px%3B%0A%20%20%20%20pad
 ding%3A%2015px%3B%0A%20%20%20%20margin%3A%2020px%200%3B%0A%20%20%20%20bac
 kground-color%3A%20%23f6fff6%3B%20%2F%2A%20ganz%20leichtes%20Gr%C3%BCn%20
 im%20Hintergrund%20%2A%2F%0A%20%20%20%20box-shadow%3A%200%202px%205px%20r
 gba%280%2C0%2C0%2C0.1%29%3B%0A%20%20%7D%0A%20%20.gruene-event%20h3%20%7B%
 0A%20%20%20%20color%3A%20%233a9d23%3B%20%2F%2A%20Gr%C3%BCner%20Titel%20%2
 A%2F%0A%20%20%20%20margin-top%3A%200%3B%0A%20%20%7D%0A%20%20.gruene-event
 %20p%20%7B%0A%20%20%20%20margin%3A%205px%200%200%3B%0A%20%20%7D%0A%0A%0A%
 3Cdiv%20class%3D%22gruene-event%22%3E%0A%20%20%3Ch3%3E%F0%9F%8C%B1%20Mitt
 woch%2C%2025.%20November%202026%2C%2019%3A00%20Uhr%20%E2%80%93%20Gr%C3%BC
 nschnack%20im%20Amt%20Leezen%3C%2Fh3%3E%0A%20%20%3Cp%3EAustausch%20in%20g
 eselliger%20Runde.%20Ort%20und%20Thema%20folgen%20noch.%3C%2Fp%3E%0A%3C%2
 Fdiv%3E%0A%0A":.gruene-event {\n\n    border: 2px solid #3a9d23\; /* Grü
 ner Rahmen */\n\n    border-radius: 10px\;\n\n    padding: 15px\;\n\n    
 margin: 20px 0\;\n\n    background-color: #f6fff6\; /* ganz leichtes Grü
 n im Hintergrund */\n\n    box-shadow: 0 2px 5px rgba(0\,0\,0\,0.1)\;\n\n
   }\n\n  .gruene-event h3 {\n\n    color: #3a9d23\; /* Grüner Titel */\n
 \n    margin-top: 0\;\n\n  }\n\n  .gruene-event p {\n\n    margin: 5px 0 
 0\;\n\n  }\n\n  🌱 Mittwoch\, 25. November 2026\, 19:00 Uhr – Grünsc
 hnack im Amt Leezen\n\n  Austausch in geselliger Runde. Ort und Thema fol
 gen noch.
CLASS:PUBLIC
DTSTART;TZID=Europe/Berlin:20261125T190000
DTEND;TZID=Europe/Berlin:20261125T200000
DTSTAMP:20260421T115134
END:VEVENT
END:VCALENDAR